BEGIN:VCALENDAR
VERSION:2.0
PRODID:-//tgpdenver.org//NONSGML kigkonsult.se iCalcreator 2.30.10//
CALSCALE:GREGORIAN
METHOD:PUBLISH
UID:f9a794e9-3117-4478-8ce7-ea5c05278173
X-WR-CALDESC:Members of the LGBTQ+ Community are invited to complete a surv
 ey with Denver's LGBTQ+ Housing Commission. The survey will ask for opinio
 ns on housing barriers\, needs\, etc. Limited spots available. Please sign
  up with Wellness staff in advance.
X-WR-RELCALID:9d5da31019092ddcb61590212b8d618c
X-WR-TIMEZONE:America/Denver
BEGIN:VTIMEZONE
TZID:America/Denver
BEGIN:STANDARD
TZNAME:MST
DTSTART:20231105T020000
TZOFFSETFROM:-0600
TZOFFSETTO:-0700
RDATE:20241103T020000
RDATE:20251102T020000
END:STANDARD
BEGIN:DAYLIGHT
TZNAME:MDT
DTSTART:20240310T020000
TZOFFSETFROM:-0700
TZOFFSETTO:-0600
RDATE:20250309T020000
RDATE:20260308T020000
END:DAYLIGHT
END:VTIMEZONE
BEGIN:VEVENT
UID:74c45b52-6d68-487f-aeb5-1df08914d19e
DTSTAMP:20260424T235037Z
DESCRIPTION:Members of the LGBTQ+ Community are invited to complete a surve
 y with Denver's LGBTQ+ Housing Commission. The survey will ask for opinion
 s on housing barriers\, needs\, etc. Limited spots available. Please sign 
 up with Wellness staff in advance.
DTSTART;TZID=America/Denver:20240927T110000
DTEND;TZID=America/Denver:20240927T120000
LOCATION:
SUMMARY:LGBTQ + Housing Commission Survey
END:VEVENT
END:VCALENDAR
