BEGIN:VCALENDAR
VERSION:2.0
PRODID:-//tgpdenver.org//NONSGML kigkonsult.se iCalcreator 2.30.10//
CALSCALE:GREGORIAN
METHOD:PUBLISH
UID:18e9c023-c70a-4389-b536-5e1e2f568005
X-WR-CALDESC:Use TGP's art room and supplies to work on any project you'd l
 ike (no teacher or facilitator)
X-WR-RELCALID:ada83879d9cfe99b780e25e3999e89e2
X-WR-TIMEZONE:America/Denver
BEGIN:VTIMEZONE
TZID:America/Denver
BEGIN:STANDARD
TZNAME:MST
DTSTART:20231105T020000
TZOFFSETFROM:-0600
TZOFFSETTO:-0700
RDATE:20241103T020000
RDATE:20251102T020000
END:STANDARD
BEGIN:DAYLIGHT
TZNAME:MDT
DTSTART:20240310T020000
TZOFFSETFROM:-0700
TZOFFSETTO:-0600
RDATE:20250309T020000
RDATE:20260308T020000
END:DAYLIGHT
END:VTIMEZONE
BEGIN:VEVENT
UID:ca116a67-e248-4164-9554-b73dbe7e9ba4
DTSTAMP:20260424T234439Z
DESCRIPTION:Use TGP's art room and supplies to work on any project you'd li
 ke (no teacher or facilitator)
DTSTART;TZID=America/Denver:20240927T130000
DTEND;TZID=America/Denver:20240927T160000
LOCATION:
SUMMARY:Open Art Studio
END:VEVENT
END:VCALENDAR
