BEGIN:VCALENDAR
VERSION:2.0
PRODID:-//tgpdenver.org//NONSGML kigkonsult.se iCalcreator 2.30.10//
CALSCALE:GREGORIAN
METHOD:PUBLISH
UID:d9dfeb84-f58c-45d4-9443-0124e1e8634b
X-WR-CALDESC:Member-led group! Learn to make simple jewelry to take with yo
 u.
X-WR-RELCALID:b5bfa09f0725c0333627ed9bfd4532e0
X-WR-TIMEZONE:America/Denver
BEGIN:VTIMEZONE
TZID:America/Denver
BEGIN:STANDARD
TZNAME:MST
DTSTART:20231105T020000
TZOFFSETFROM:-0600
TZOFFSETTO:-0700
RDATE:20241103T020000
RDATE:20251102T020000
END:STANDARD
BEGIN:DAYLIGHT
TZNAME:MDT
DTSTART:20240310T020000
TZOFFSETFROM:-0700
TZOFFSETTO:-0600
RDATE:20250309T020000
RDATE:20260308T020000
END:DAYLIGHT
END:VTIMEZONE
BEGIN:VEVENT
UID:64d710ff-02e6-4b44-876c-c392517e5b6c
DTSTAMP:20260424T235046Z
DESCRIPTION:Member-led group! Learn to make simple jewelry to take with you
 .
DTSTART;TZID=America/Denver:20240930T093000
DTEND;TZID=America/Denver:20240930T120000
LOCATION:
SUMMARY:Jewelry Making
END:VEVENT
END:VCALENDAR
