BEGIN:VCALENDAR
VERSION:2.0
PRODID:-//tgpdenver.org//NONSGML kigkonsult.se iCalcreator 2.30.10//
CALSCALE:GREGORIAN
METHOD:PUBLISH
UID:c51a2408-3bed-4b54-81ec-e582f0882c27
X-WR-CALDESC:Suboxone\, Substance Use Support
X-WR-RELCALID:5a2a401e1f78aa82f160d704b18a1c9d
X-WR-TIMEZONE:America/Denver
BEGIN:VTIMEZONE
TZID:America/Denver
BEGIN:STANDARD
TZNAME:MST
DTSTART:20231105T020000
TZOFFSETFROM:-0600
TZOFFSETTO:-0700
RDATE:20241103T020000
RDATE:20251102T020000
END:STANDARD
BEGIN:DAYLIGHT
TZNAME:MDT
DTSTART:20240310T020000
TZOFFSETFROM:-0700
TZOFFSETTO:-0600
RDATE:20250309T020000
RDATE:20260308T020000
END:DAYLIGHT
END:VTIMEZONE
BEGIN:VEVENT
UID:1ad396ea-8008-44f7-986b-f5ffa45996cf
DTSTAMP:20260424T215359Z
DESCRIPTION:Suboxone\, Substance Use Support
DTSTART;TZID=America/Denver:20241007T100000
DTEND;TZID=America/Denver:20241007T110000
LOCATION:Foyer
SUMMARY:Medication Assisted Treatment
END:VEVENT
END:VCALENDAR
