BEGIN:VCALENDAR
VERSION:2.0
PRODID:-//tgpdenver.org//NONSGML kigkonsult.se iCalcreator 2.30.10//
CALSCALE:GREGORIAN
METHOD:PUBLISH
UID:061d0ed8-8157-4ed1-82bf-0d072bfa5f73
X-WR-CALDESC:Discuss what healthy and unhealthy relationships with partners
 \, employers\, or anyone\, look like. Gain tools for healthier connections
 . Learn to stay safer while staying in or leaving a relationship\, both ro
 mantic and non-romantic. Led by Voluntad staff\, who specialize in human t
 rafficking support.
X-WR-RELCALID:6329b8a1b035f93a40f4997a76c32ccf
X-WR-TIMEZONE:America/Denver
BEGIN:VTIMEZONE
TZID:America/Denver
BEGIN:STANDARD
TZNAME:MST
DTSTART:20231105T020000
TZOFFSETFROM:-0600
TZOFFSETTO:-0700
RDATE:20241103T020000
RDATE:20251102T020000
END:STANDARD
BEGIN:DAYLIGHT
TZNAME:MDT
DTSTART:20240310T020000
TZOFFSETFROM:-0700
TZOFFSETTO:-0600
RDATE:20250309T020000
RDATE:20260308T020000
END:DAYLIGHT
END:VTIMEZONE
BEGIN:VEVENT
UID:43b69d45-f5a1-4001-9547-8e6843bcd874
DTSTAMP:20260424T214929Z
DESCRIPTION:Discuss what healthy and unhealthy relationships with partners\
 , employers\, or anyone\, look like. Gain tools for healthier connections.
  Learn to stay safer while staying in or leaving a relationship\, both rom
 antic and non-romantic. Led by Voluntad staff\, who specialize in human tr
 afficking support.
DTSTART;TZID=America/Denver:20241016T110000
DTEND;TZID=America/Denver:20241016T120000
LOCATION:
SUMMARY:Relationships and Boundaries Support Group
END:VEVENT
END:VCALENDAR
