BEGIN:VCALENDAR
VERSION:2.0
PRODID:-//tgpdenver.org//NONSGML kigkonsult.se iCalcreator 2.30.10//
CALSCALE:GREGORIAN
METHOD:PUBLISH
UID:6ccbb299-5b6f-49be-8d11-839d304aeb95
X-WR-CALDESC:Meet with staff from Colorado Coalition for the Homeless for h
 elp applying for crime victim financial assistance\, legal support\, and o
 ther resources for anyone who has survived a crime.
X-WR-RELCALID:bad86d1b76eb736473a787cc6644874d
X-WR-TIMEZONE:America/Denver
BEGIN:VTIMEZONE
TZID:America/Denver
BEGIN:STANDARD
TZNAME:MST
DTSTART:20231105T020000
TZOFFSETFROM:-0600
TZOFFSETTO:-0700
RDATE:20241103T020000
RDATE:20251102T020000
END:STANDARD
BEGIN:DAYLIGHT
TZNAME:MDT
DTSTART:20240310T020000
TZOFFSETFROM:-0700
TZOFFSETTO:-0600
RDATE:20250309T020000
RDATE:20260308T020000
END:DAYLIGHT
END:VTIMEZONE
BEGIN:VEVENT
UID:0ed9c87f-0dfe-4887-a160-b1c2cc680ee5
DTSTAMP:20260424T215249Z
DESCRIPTION:Meet with staff from Colorado Coalition for the Homeless for he
 lp applying for crime victim financial assistance\, legal support\, and ot
 her resources for anyone who has survived a crime.
DTSTART;TZID=America/Denver:20241024T040000
DTEND;TZID=America/Denver:20241024T040001
LOCATION:
SUMMARY:Crime Survivors Support
END:VEVENT
END:VCALENDAR
