BEGIN:VCALENDAR
VERSION:2.0
PRODID:-//tgpdenver.org//NONSGML kigkonsult.se iCalcreator 2.30.10//
CALSCALE:GREGORIAN
METHOD:PUBLISH
UID:294e8883-eb8e-4238-bca2-5ca095bc310d
X-WR-CALDESC:Member-led group! Learn to make simple jewelry to take with yo
 u.
X-WR-RELCALID:a26f38ce0f595c3c0940eef4ee136344
X-WR-TIMEZONE:America/Denver
BEGIN:VTIMEZONE
TZID:America/Denver
BEGIN:STANDARD
TZNAME:MST
DTSTART:20231105T020000
TZOFFSETFROM:-0600
TZOFFSETTO:-0700
RDATE:20241103T020000
RDATE:20251102T020000
END:STANDARD
BEGIN:DAYLIGHT
TZNAME:MDT
DTSTART:20240310T020000
TZOFFSETFROM:-0700
TZOFFSETTO:-0600
RDATE:20250309T020000
RDATE:20260308T020000
END:DAYLIGHT
END:VTIMEZONE
BEGIN:VEVENT
UID:224a81b5-3d2f-4138-bf07-1bd3ab5b6d64
DTSTAMP:20260424T215401Z
DESCRIPTION:Member-led group! Learn to make simple jewelry to take with you
 .
DTSTART;TZID=America/Denver:20241028T093000
DTEND;TZID=America/Denver:20241028T120000
LOCATION:
SUMMARY:Jewelry Making
END:VEVENT
END:VCALENDAR
