BEGIN:VCALENDAR
VERSION:2.0
PRODID:-//tgpdenver.org//NONSGML kigkonsult.se iCalcreator 2.30.10//
CALSCALE:GREGORIAN
METHOD:PUBLISH
UID:fbf5de72-79b7-4704-a7dc-d7ce0e62fd1e
X-WR-CALDESC:Meet with staff from Colorado Coalition for the Homeless for h
 elp applying for crime victim financial assistance\, legal support\, and o
 ther resources for anyone who has survived a crime.
X-WR-RELCALID:c2f7779e953a0252c06b1d4a93f81f42
X-WR-TIMEZONE:America/Denver
BEGIN:VTIMEZONE
TZID:America/Denver
BEGIN:STANDARD
TZNAME:MST
DTSTART:20231105T020000
TZOFFSETFROM:-0600
TZOFFSETTO:-0700
RDATE:20241103T020000
RDATE:20251102T020000
END:STANDARD
BEGIN:DAYLIGHT
TZNAME:MDT
DTSTART:20240310T020000
TZOFFSETFROM:-0700
TZOFFSETTO:-0600
RDATE:20250309T020000
RDATE:20260308T020000
END:DAYLIGHT
END:VTIMEZONE
BEGIN:VEVENT
UID:f81a4dc0-fe04-42bb-a496-eb092731649e
DTSTAMP:20260424T215304Z
DESCRIPTION:Meet with staff from Colorado Coalition for the Homeless for he
 lp applying for crime victim financial assistance\, legal support\, and ot
 her resources for anyone who has survived a crime.
DTSTART;TZID=America/Denver:20241031T040000
DTEND;TZID=America/Denver:20241031T040001
LOCATION:
SUMMARY:Crime Survivors Support
END:VEVENT
END:VCALENDAR
