BEGIN:VCALENDAR
VERSION:2.0
PRODID:-//tgpdenver.org//NONSGML kigkonsult.se iCalcreator 2.30.10//
CALSCALE:GREGORIAN
METHOD:PUBLISH
UID:0e5a5af1-3fb6-4a43-bb1b-95d08b452cae
X-WR-CALDESC:Member-led group! Learn to make simple jewelry to take with yo
 u.
X-WR-RELCALID:96c7ae6e155a95daa60887bd0305e955
X-WR-TIMEZONE:America/Denver
BEGIN:VTIMEZONE
TZID:America/Denver
BEGIN:STANDARD
TZNAME:MST
DTSTART:20231105T020000
TZOFFSETFROM:-0600
TZOFFSETTO:-0700
RDATE:20241103T020000
RDATE:20251102T020000
END:STANDARD
BEGIN:DAYLIGHT
TZNAME:MDT
DTSTART:20240310T020000
TZOFFSETFROM:-0700
TZOFFSETTO:-0600
RDATE:20250309T020000
RDATE:20260308T020000
END:DAYLIGHT
END:VTIMEZONE
BEGIN:VEVENT
UID:bcecc501-2c72-4bc4-8433-397785853d12
DTSTAMP:20260424T195544Z
DESCRIPTION:Member-led group! Learn to make simple jewelry to take with you
 .
DTSTART;TZID=America/Denver:20241104T093000
DTEND;TZID=America/Denver:20241104T120000
LOCATION:
SUMMARY:Jewelry Making
END:VEVENT
END:VCALENDAR
