BEGIN:VCALENDAR
VERSION:2.0
PRODID:-//tgpdenver.org//NONSGML kigkonsult.se iCalcreator 2.30.10//
CALSCALE:GREGORIAN
METHOD:PUBLISH
UID:a3c67ca8-e4ce-4cec-b980-1025f56f5544
X-WR-CALDESC:Space for members who have a terminal or chronic illness to sh
 are conversation and support. Facilitated by TGP staff\, Lucas.
X-WR-RELCALID:3d6e49eafeec1c2ac5a3c5fb287544c3
X-WR-TIMEZONE:America/Denver
BEGIN:VTIMEZONE
TZID:America/Denver
BEGIN:STANDARD
TZNAME:MST
DTSTART:20241103T020000
TZOFFSETFROM:-0600
TZOFFSETTO:-0700
RDATE:20251102T020000
END:STANDARD
BEGIN:DAYLIGHT
TZNAME:MDT
DTSTART:20240310T020000
TZOFFSETFROM:-0700
TZOFFSETTO:-0600
RDATE:20250309T020000
RDATE:20260308T020000
END:DAYLIGHT
END:VTIMEZONE
BEGIN:VEVENT
UID:c85cadfb-7a04-4dd0-8b46-49063925a54a
DTSTAMP:20260424T195231Z
DESCRIPTION:Space for members who have a terminal or chronic illness to sha
 re conversation and support. Facilitated by TGP staff\, Lucas.
DTSTART;TZID=America/Denver:20241106T110000
DTEND;TZID=America/Denver:20241106T120000
LOCATION:
SUMMARY:Terminal Illness Support group
END:VEVENT
END:VCALENDAR
