BEGIN:VCALENDAR
VERSION:2.0
PRODID:-//tgpdenver.org//NONSGML kigkonsult.se iCalcreator 2.30.10//
CALSCALE:GREGORIAN
METHOD:PUBLISH
UID:74a74962-a4c7-4447-8be6-2fb0365042da
X-WR-CALDESC:Learn about and sign-up for support with intimate Partner Viol
 ence\, mental health\, and substance use services with Servicios de la Raz
 a.
X-WR-RELCALID:e75d7614872a2fe7188391b7c634e1bd
X-WR-TIMEZONE:America/Denver
BEGIN:VTIMEZONE
TZID:America/Denver
BEGIN:STANDARD
TZNAME:MST
DTSTART:20241103T020000
TZOFFSETFROM:-0600
TZOFFSETTO:-0700
RDATE:20251102T020000
END:STANDARD
BEGIN:DAYLIGHT
TZNAME:MDT
DTSTART:20240310T020000
TZOFFSETFROM:-0700
TZOFFSETTO:-0600
RDATE:20250309T020000
RDATE:20260308T020000
END:DAYLIGHT
END:VTIMEZONE
BEGIN:VEVENT
UID:6d626592-5761-4f8b-9795-7a04469a1d67
DTSTAMP:20260424T195920Z
DESCRIPTION:Learn about and sign-up for support with intimate Partner Viole
 nce\, mental health\, and substance use services with Servicios de la Raza
 .
DTSTART;TZID=America/Denver:20241121T130000
DTEND;TZID=America/Denver:20241121T140000
LOCATION:
SUMMARY:VISTAS outreach and intake
END:VEVENT
END:VCALENDAR
