BEGIN:VCALENDAR
VERSION:2.0
PRODID:-//tgpdenver.org//NONSGML kigkonsult.se iCalcreator 2.30.10//
CALSCALE:GREGORIAN
METHOD:PUBLISH
UID:a1b022d4-a8e2-4c27-8c68-f9f0d3f561c2
X-WR-CALDESC:
X-WR-RELCALID:78831102f64402dc384ce97deb7c6328
X-WR-TIMEZONE:America/Denver
BEGIN:VTIMEZONE
TZID:America/Denver
BEGIN:STANDARD
TZNAME:MST
DTSTART:20241103T020000
TZOFFSETFROM:-0600
TZOFFSETTO:-0700
RDATE:20251102T020000
END:STANDARD
BEGIN:DAYLIGHT
TZNAME:MDT
DTSTART:20240310T020000
TZOFFSETFROM:-0700
TZOFFSETTO:-0600
RDATE:20250309T020000
RDATE:20260308T020000
END:DAYLIGHT
END:VTIMEZONE
BEGIN:VEVENT
UID:23ba3207-7aa7-4791-8f75-3e3a1f474891
DTSTAMP:20260424T180325Z
DESCRIPTION:
DTSTART;TZID=America/Denver:20241204T093000
DTEND;TZID=America/Denver:20241204T113000
LOCATION:Art Room
SUMMARY:Watercolor
END:VEVENT
END:VCALENDAR
