BEGIN:VCALENDAR
VERSION:2.0
PRODID:-//tgpdenver.org//NONSGML kigkonsult.se iCalcreator 2.30.10//
CALSCALE:GREGORIAN
METHOD:PUBLISH
UID:d4e89e33-5bc9-4473-ab8c-a7a7426261c7
X-WR-CALDESC:
X-WR-RELCALID:48979ff2ab8e1fa6cc492dc65238e613
X-WR-TIMEZONE:America/Denver
BEGIN:VTIMEZONE
TZID:America/Denver
BEGIN:STANDARD
TZNAME:MST
DTSTART:20241103T020000
TZOFFSETFROM:-0600
TZOFFSETTO:-0700
RDATE:20251102T020000
END:STANDARD
BEGIN:DAYLIGHT
TZNAME:MDT
DTSTART:20240310T020000
TZOFFSETFROM:-0700
TZOFFSETTO:-0600
RDATE:20250309T020000
RDATE:20260308T020000
END:DAYLIGHT
END:VTIMEZONE
BEGIN:VEVENT
UID:f8ad5b5f-b9bf-4ee4-993b-04cc816b2420
DTSTAMP:20260424T180157Z
DESCRIPTION:
DTSTART;TZID=America/Denver:20241209T130000
DTEND;TZID=America/Denver:20241209T150000
LOCATION:3rd Floor Art Room
SUMMARY:Cold Weather Resource Swap
END:VEVENT
END:VCALENDAR
