BEGIN:VCALENDAR
VERSION:2.0
PRODID:-//tgpdenver.org//NONSGML kigkonsult.se iCalcreator 2.30.10//
CALSCALE:GREGORIAN
METHOD:PUBLISH
UID:04743f86-5ad4-4c7a-a99c-bd8f9d01d3af
X-WR-CALDESC:Plant wildflower seeds on the 4th floor garden\, so we can wat
 ch them bloom in the Spring!
X-WR-RELCALID:dee48cc97603d0ddb6eda87aed506ba9
X-WR-TIMEZONE:America/Denver
BEGIN:VTIMEZONE
TZID:America/Denver
BEGIN:STANDARD
TZNAME:MST
DTSTART:20241103T020000
TZOFFSETFROM:-0600
TZOFFSETTO:-0700
RDATE:20251102T020000
END:STANDARD
BEGIN:DAYLIGHT
TZNAME:MDT
DTSTART:20240310T020000
TZOFFSETFROM:-0700
TZOFFSETTO:-0600
RDATE:20250309T020000
RDATE:20260308T020000
END:DAYLIGHT
END:VTIMEZONE
BEGIN:VEVENT
UID:b9c3f493-4eac-4947-b7a8-ba489b485e63
DTSTAMP:20260424T175845Z
DESCRIPTION:Plant wildflower seeds on the 4th floor garden\, so we can watc
 h them bloom in the Spring!
DTSTART;TZID=America/Denver:20241209T100000
DTEND;TZID=America/Denver:20241209T120000
LOCATION:3rd Floor Art Room
SUMMARY:Wildflower Planting
END:VEVENT
END:VCALENDAR
