BEGIN:VCALENDAR
VERSION:2.0
PRODID:-//tgpdenver.org//NONSGML kigkonsult.se iCalcreator 2.30.10//
CALSCALE:GREGORIAN
METHOD:PUBLISH
UID:e7e292ca-6f6c-43ef-8ac4-70458e04815a
X-WR-CALDESC:Use ceramic and glass art tiles to make a mosaic inspired by n
 ature\, or anything else!
X-WR-RELCALID:7bb51581cae7897a61250d4ef4aa9cc8
X-WR-TIMEZONE:America/Denver
BEGIN:VTIMEZONE
TZID:America/Denver
BEGIN:STANDARD
TZNAME:MST
DTSTART:20241103T020000
TZOFFSETFROM:-0600
TZOFFSETTO:-0700
RDATE:20251102T020000
END:STANDARD
BEGIN:DAYLIGHT
TZNAME:MDT
DTSTART:20240310T020000
TZOFFSETFROM:-0700
TZOFFSETTO:-0600
RDATE:20250309T020000
RDATE:20260308T020000
END:DAYLIGHT
END:VTIMEZONE
BEGIN:VEVENT
UID:b3916e93-87ee-4441-b1b4-58466a8ebedb
DTSTAMP:20260424T180310Z
DESCRIPTION:Use ceramic and glass art tiles to make a mosaic inspired by na
 ture\, or anything else!
DTSTART;TZID=America/Denver:20241213T110000
DTEND;TZID=America/Denver:20241213T120000
LOCATION:3rd Floor Art Room
SUMMARY:Mosaics
END:VEVENT
END:VCALENDAR
