BEGIN:VCALENDAR
VERSION:2.0
PRODID:-//tgpdenver.org//NONSGML kigkonsult.se iCalcreator 2.30.10//
CALSCALE:GREGORIAN
METHOD:PUBLISH
UID:05458962-be31-409b-aef0-7944702e607d
X-WR-CALDESC:
X-WR-RELCALID:7af419531836712132bd8db0b0a68e5c
X-WR-TIMEZONE:America/Denver
BEGIN:VTIMEZONE
TZID:America/Denver
BEGIN:STANDARD
TZNAME:MST
DTSTART:20241103T020000
TZOFFSETFROM:-0600
TZOFFSETTO:-0700
RDATE:20251102T020000
END:STANDARD
BEGIN:DAYLIGHT
TZNAME:MDT
DTSTART:20240310T020000
TZOFFSETFROM:-0700
TZOFFSETTO:-0600
RDATE:20250309T020000
RDATE:20260308T020000
END:DAYLIGHT
END:VTIMEZONE
BEGIN:VEVENT
UID:caf693ed-fa48-4bb7-9d8c-3f305409efc9
DTSTAMP:20260424T180120Z
DESCRIPTION:
DTSTART;TZID=America/Denver:20241216T113000
DTEND;TZID=America/Denver:20241216T140000
LOCATION:3rd Floor Art Room
SUMMARY:Holiday Party!
END:VEVENT
END:VCALENDAR
