BEGIN:VCALENDAR
VERSION:2.0
PRODID:-//tgpdenver.org//NONSGML kigkonsult.se iCalcreator 2.30.10//
CALSCALE:GREGORIAN
METHOD:PUBLISH
UID:e7969df4-e7cd-444f-937c-27d804228e63
X-WR-CALDESC:Space for members who have a terminal or chronic illness to sh
 are conversation and support. Facilitated by TGP staff\, Lucas.
X-WR-RELCALID:92b29c48d348c6e49a3ec98d9f9608d9
X-WR-TIMEZONE:America/Denver
BEGIN:VTIMEZONE
TZID:America/Denver
BEGIN:STANDARD
TZNAME:MST
DTSTART:20241103T020000
TZOFFSETFROM:-0600
TZOFFSETTO:-0700
RDATE:20251102T020000
END:STANDARD
BEGIN:DAYLIGHT
TZNAME:MDT
DTSTART:20240310T020000
TZOFFSETFROM:-0700
TZOFFSETTO:-0600
RDATE:20250309T020000
RDATE:20260308T020000
END:DAYLIGHT
END:VTIMEZONE
BEGIN:VEVENT
UID:8505b840-4b75-48df-ae89-575f0ff90a9c
DTSTAMP:20260424T221526Z
DESCRIPTION:Space for members who have a terminal or chronic illness to sha
 re conversation and support. Facilitated by TGP staff\, Lucas.
DTSTART;TZID=America/Denver:20241218T110000
DTEND;TZID=America/Denver:20241218T120000
LOCATION:
SUMMARY:Terminal Illness Support group
END:VEVENT
END:VCALENDAR
