BEGIN:VCALENDAR
VERSION:2.0
PRODID:-//tgpdenver.org//NONSGML kigkonsult.se iCalcreator 2.30.10//
CALSCALE:GREGORIAN
METHOD:PUBLISH
UID:f1343fc7-64ed-44c3-b0c5-8329e2583f40
X-WR-CALDESC:Meet with staff from Colorado Coalition for the Homeless for h
 elp applying for crime victim financial assistance\, legal support\, and o
 ther resources for anyone who has survived a crime.
X-WR-RELCALID:577f0321ac584bceba4f14b860c78c6f
X-WR-TIMEZONE:America/Denver
BEGIN:VTIMEZONE
TZID:America/Denver
BEGIN:STANDARD
TZNAME:MST
DTSTART:20241103T020000
TZOFFSETFROM:-0600
TZOFFSETTO:-0700
RDATE:20251102T020000
END:STANDARD
BEGIN:DAYLIGHT
TZNAME:MDT
DTSTART:20240310T020000
TZOFFSETFROM:-0700
TZOFFSETTO:-0600
RDATE:20250309T020000
RDATE:20260308T020000
END:DAYLIGHT
END:VTIMEZONE
BEGIN:VEVENT
UID:55401a7e-709c-4e5c-9411-89fbc08df6d7
DTSTAMP:20260424T180336Z
DESCRIPTION:Meet with staff from Colorado Coalition for the Homeless for he
 lp applying for crime victim financial assistance\, legal support\, and ot
 her resources for anyone who has survived a crime.
DTSTART;TZID=America/Denver:20241219T040000
DTEND;TZID=America/Denver:20241219T040001
LOCATION:
SUMMARY:Crime Survivors Support
END:VEVENT
END:VCALENDAR
