BEGIN:VCALENDAR
VERSION:2.0
PRODID:-//tgpdenver.org//NONSGML kigkonsult.se iCalcreator 2.30.10//
CALSCALE:GREGORIAN
METHOD:PUBLISH
UID:beff0ebb-4c08-4853-83ab-f982d59c5def
X-WR-CALDESC:Meet with staff from Colorado Coalition for the Homeless for h
 elp applying for crime victim financial assistance\, legal support\, and o
 ther resources for anyone who has survived a crime.
X-WR-RELCALID:b8cf78ed7ea19cdfdf92b4aea27a6311
X-WR-TIMEZONE:America/Denver
BEGIN:VTIMEZONE
TZID:America/Denver
BEGIN:STANDARD
TZNAME:MST
DTSTART:20241103T020000
TZOFFSETFROM:-0600
TZOFFSETTO:-0700
RDATE:20251102T020000
END:STANDARD
BEGIN:DAYLIGHT
TZNAME:MDT
DTSTART:20240310T020000
TZOFFSETFROM:-0700
TZOFFSETTO:-0600
RDATE:20250309T020000
RDATE:20260308T020000
END:DAYLIGHT
END:VTIMEZONE
BEGIN:VEVENT
UID:988f1c77-3261-4d5a-8650-804834f3a9d2
DTSTAMP:20260424T180458Z
DESCRIPTION:Meet with staff from Colorado Coalition for the Homeless for he
 lp applying for crime victim financial assistance\, legal support\, and ot
 her resources for anyone who has survived a crime.
DTSTART;TZID=America/Denver:20241226T040000
DTEND;TZID=America/Denver:20241226T040001
LOCATION:
SUMMARY:Crime Survivors Support
END:VEVENT
END:VCALENDAR
