BEGIN:VCALENDAR
VERSION:2.0
PRODID:-//tgpdenver.org//NONSGML kigkonsult.se iCalcreator 2.30.10//
CALSCALE:GREGORIAN
METHOD:PUBLISH
UID:7495f538-deee-4e6f-ad88-b601e84840ce
X-WR-CALDESC:Use ceramic and glass art tiles to make a mosaic inspired by n
 ature\, or anything else!
X-WR-RELCALID:7094e24907ec63a893f4d4825d6effed
X-WR-TIMEZONE:America/Denver
BEGIN:VTIMEZONE
TZID:America/Denver
BEGIN:STANDARD
TZNAME:MST
DTSTART:20241103T020000
TZOFFSETFROM:-0600
TZOFFSETTO:-0700
RDATE:20251102T020000
END:STANDARD
BEGIN:DAYLIGHT
TZNAME:MDT
DTSTART:20240310T020000
TZOFFSETFROM:-0700
TZOFFSETTO:-0600
RDATE:20250309T020000
RDATE:20260308T020000
END:DAYLIGHT
END:VTIMEZONE
BEGIN:VEVENT
UID:037f279e-50b5-4daf-a608-129657ac1719
DTSTAMP:20260424T180310Z
DESCRIPTION:Use ceramic and glass art tiles to make a mosaic inspired by na
 ture\, or anything else!
DTSTART;TZID=America/Denver:20241227T110000
DTEND;TZID=America/Denver:20241227T120000
LOCATION:3rd Floor Art Room
SUMMARY:Mosaics
END:VEVENT
END:VCALENDAR
