BEGIN:VCALENDAR
VERSION:2.0
PRODID:-//tgpdenver.org//NONSGML kigkonsult.se iCalcreator 2.30.10//
CALSCALE:GREGORIAN
METHOD:PUBLISH
UID:6c6c6faa-acab-43a2-9d8c-d2cb2e72be52
X-WR-CALDESC:Create artmaking packets at TGP\, and hand them out to the com
 munity at Mutual Aid Monday. Learn about MAM\, and help them learn about T
 GP!
X-WR-RELCALID:f999fb36a737b014ff84ea7a3e313604
X-WR-TIMEZONE:America/Denver
BEGIN:VTIMEZONE
TZID:America/Denver
BEGIN:STANDARD
TZNAME:MST
DTSTART:20241103T020000
TZOFFSETFROM:-0600
TZOFFSETTO:-0700
RDATE:20251102T020000
END:STANDARD
BEGIN:DAYLIGHT
TZNAME:MDT
DTSTART:20240310T020000
TZOFFSETFROM:-0700
TZOFFSETTO:-0600
RDATE:20250309T020000
RDATE:20260308T020000
END:DAYLIGHT
END:VTIMEZONE
BEGIN:VEVENT
UID:ea956d78-9331-44ce-92bb-a1560344c530
DTSTAMP:20260424T180002Z
DESCRIPTION:Create artmaking packets at TGP\, and hand them out to the comm
 unity at Mutual Aid Monday. Learn about MAM\, and help them learn about TG
 P!
DTSTART;TZID=America/Denver:20241230T130000
DTEND;TZID=America/Denver:20241230T150000
LOCATION:3rd Floor Art Room
SUMMARY:Mutual Aid Monday
END:VEVENT
END:VCALENDAR
