BEGIN:VCALENDAR
VERSION:2.0
PRODID:-//tgpdenver.org//NONSGML kigkonsult.se iCalcreator 2.30.10//
CALSCALE:GREGORIAN
METHOD:PUBLISH
UID:3eadf8e9-5c83-4d21-bded-379641d14463
X-WR-CALDESC:
X-WR-RELCALID:c3757f7a4c12ad520326ca06b37c786b
X-WR-TIMEZONE:America/Denver
BEGIN:VTIMEZONE
TZID:America/Denver
BEGIN:STANDARD
TZNAME:MST
DTSTART:20241103T020000
TZOFFSETFROM:-0600
TZOFFSETTO:-0700
RDATE:20251102T020000
END:STANDARD
BEGIN:DAYLIGHT
TZNAME:MDT
DTSTART:20240310T020000
TZOFFSETFROM:-0700
TZOFFSETTO:-0600
RDATE:20250309T020000
RDATE:20260308T020000
END:DAYLIGHT
END:VTIMEZONE
BEGIN:VEVENT
UID:cc094065-74e0-41e7-ba90-6d483d5ba127
DTSTAMP:20260424T160925Z
DESCRIPTION:
DTSTART;TZID=America/Denver:20250117T100000
DTEND;TZID=America/Denver:20250117T110000
LOCATION:3rd Floor Art Room
SUMMARY:Cold Weather Workshop
END:VEVENT
END:VCALENDAR
