BEGIN:VCALENDAR
VERSION:2.0
PRODID:-//tgpdenver.org//NONSGML kigkonsult.se iCalcreator 2.30.10//
CALSCALE:GREGORIAN
METHOD:PUBLISH
UID:a99eb835-1557-4628-b00e-a1cc66183a9c
X-WR-CALDESC:Meet with staff from Colorado Coalition for the Homeless for h
 elp applying for crime victim financial assistance\, legal support\, and o
 ther resources for anyone who has survived a crime.
X-WR-RELCALID:010dd4347c93b5aabef4a1d02334fafa
X-WR-TIMEZONE:America/Denver
BEGIN:VTIMEZONE
TZID:America/Denver
BEGIN:STANDARD
TZNAME:MST
DTSTART:20241103T020000
TZOFFSETFROM:-0600
TZOFFSETTO:-0700
RDATE:20251102T020000
END:STANDARD
BEGIN:DAYLIGHT
TZNAME:MDT
DTSTART:20240310T020000
TZOFFSETFROM:-0700
TZOFFSETTO:-0600
RDATE:20250309T020000
RDATE:20260308T020000
END:DAYLIGHT
END:VTIMEZONE
BEGIN:VEVENT
UID:594188d3-bdf3-4a6e-b1aa-c1e7ff56e5a5
DTSTAMP:20260424T163020Z
DESCRIPTION:Meet with staff from Colorado Coalition for the Homeless for he
 lp applying for crime victim financial assistance\, legal support\, and ot
 her resources for anyone who has survived a crime.
DTSTART;TZID=America/Denver:20250123T040000
DTEND;TZID=America/Denver:20250123T040001
LOCATION:
SUMMARY:Crime Survivors Support
END:VEVENT
END:VCALENDAR
