BEGIN:VCALENDAR
VERSION:2.0
PRODID:-//tgpdenver.org//NONSGML kigkonsult.se iCalcreator 2.30.10//
CALSCALE:GREGORIAN
METHOD:PUBLISH
UID:cc6ce7a9-40cf-456f-8a5c-38f704f0ee32
X-WR-CALDESC:Learn or share makeup tips and tricks for everyday gender affi
 rming looks. Everyone is welcome\, but this will be focused on feminizing 
 makeup for transfeminine people. **Please sign up in advance!!**
X-WR-RELCALID:557311bd91eb85d4a33b3c5cb2b7fced
X-WR-TIMEZONE:America/Denver
BEGIN:VTIMEZONE
TZID:America/Denver
BEGIN:STANDARD
TZNAME:MST
DTSTART:20241103T020000
TZOFFSETFROM:-0600
TZOFFSETTO:-0700
RDATE:20251102T020000
END:STANDARD
BEGIN:DAYLIGHT
TZNAME:MDT
DTSTART:20240310T020000
TZOFFSETFROM:-0700
TZOFFSETTO:-0600
RDATE:20250309T020000
RDATE:20260308T020000
END:DAYLIGHT
END:VTIMEZONE
BEGIN:VEVENT
UID:b0a08fcc-b9f1-4c3a-811c-cbdbfd5cb803
DTSTAMP:20260424T161952Z
DESCRIPTION:Learn or share makeup tips and tricks for everyday gender affir
 ming looks. Everyone is welcome\, but this will be focused on feminizing m
 akeup for transfeminine people. **Please sign up in advance!!**
DTSTART;TZID=America/Denver:20250124T083000
DTEND;TZID=America/Denver:20250124T100000
LOCATION:3rd Floor Art Room
SUMMARY:Transfeminine Makeup Workshop
END:VEVENT
END:VCALENDAR
