BEGIN:VCALENDAR
VERSION:2.0
PRODID:-//tgpdenver.org//NONSGML kigkonsult.se iCalcreator 2.30.10//
CALSCALE:GREGORIAN
METHOD:PUBLISH
UID:6147fe12-7d6b-4364-854c-4399e352354a
X-WR-CALDESC:Member-led group! This class focuses on the skills it takes to
  share your story and creativity. Come learn how to take pride in your art
 .
X-WR-RELCALID:786fa81d189bc1c575a7fc0f26559b29
X-WR-TIMEZONE:America/Denver
BEGIN:VTIMEZONE
TZID:America/Denver
BEGIN:STANDARD
TZNAME:MST
DTSTART:20241103T020000
TZOFFSETFROM:-0600
TZOFFSETTO:-0700
RDATE:20251102T020000
END:STANDARD
BEGIN:DAYLIGHT
TZNAME:MDT
DTSTART:20240310T020000
TZOFFSETFROM:-0700
TZOFFSETTO:-0600
RDATE:20250309T020000
RDATE:20260308T020000
END:DAYLIGHT
END:VTIMEZONE
BEGIN:VEVENT
UID:054599fc-ffab-4a66-851d-2b396ceb2f61
DTSTAMP:20260424T160925Z
DESCRIPTION:Member-led group! This class focuses on the skills it takes to 
 share your story and creativity. Come learn how to take pride in your art.
DTSTART;TZID=America/Denver:20250129T130000
DTEND;TZID=America/Denver:20250129T150000
LOCATION:3rd Floor Art Room
SUMMARY:Creative Confidence
END:VEVENT
END:VCALENDAR
