BEGIN:VCALENDAR
VERSION:2.0
PRODID:-//tgpdenver.org//NONSGML kigkonsult.se iCalcreator 2.30.10//
CALSCALE:GREGORIAN
METHOD:PUBLISH
UID:01a07e31-4c5e-43ce-9949-4fb466035b6f
X-WR-CALDESC:Relax\, and explore space and the Universe on the big screen.
X-WR-RELCALID:6585d4df30787460efe51fdfc1924748
X-WR-TIMEZONE:America/Denver
BEGIN:VTIMEZONE
TZID:America/Denver
BEGIN:STANDARD
TZNAME:MST
DTSTART:20241103T020000
TZOFFSETFROM:-0600
TZOFFSETTO:-0700
RDATE:20251102T020000
END:STANDARD
BEGIN:DAYLIGHT
TZNAME:MDT
DTSTART:20240310T020000
TZOFFSETFROM:-0700
TZOFFSETTO:-0600
RDATE:20250309T020000
RDATE:20260308T020000
END:DAYLIGHT
END:VTIMEZONE
BEGIN:VEVENT
UID:da1c7018-8112-49ae-8386-2ebdbc9dee79
DTSTAMP:20260424T163412Z
DESCRIPTION:Relax\, and explore space and the Universe on the big screen.
DTSTART;TZID=America/Denver:20250130T090000
DTEND;TZID=America/Denver:20250130T100000
LOCATION:3rd Floor Art Room
SUMMARY:Indoor Stargazing
END:VEVENT
END:VCALENDAR
