BEGIN:VCALENDAR
VERSION:2.0
PRODID:-//tgpdenver.org//NONSGML kigkonsult.se iCalcreator 2.30.10//
CALSCALE:GREGORIAN
METHOD:PUBLISH
UID:ad289189-74c6-410d-8598-68fc8e2f0522
X-WR-CALDESC:
X-WR-RELCALID:adeb09b9c9193dac415b5b5cf16264b2
X-WR-TIMEZONE:America/Denver
BEGIN:VTIMEZONE
TZID:America/Denver
BEGIN:STANDARD
TZNAME:MST
DTSTART:20241103T020000
TZOFFSETFROM:-0600
TZOFFSETTO:-0700
RDATE:20251102T020000
END:STANDARD
BEGIN:DAYLIGHT
TZNAME:MDT
DTSTART:20240310T020000
TZOFFSETFROM:-0700
TZOFFSETTO:-0600
RDATE:20250309T020000
RDATE:20260308T020000
END:DAYLIGHT
END:VTIMEZONE
BEGIN:VEVENT
UID:2f21f502-b848-4ff6-a6f8-914c80a4bac6
DTSTAMP:20260424T163727Z
DESCRIPTION:
DTSTART;TZID=America/Denver:20250131T100000
DTEND;TZID=America/Denver:20250131T110000
LOCATION:3rd Floor Art Room
SUMMARY:Sexual Health Bingo
END:VEVENT
END:VCALENDAR
