BEGIN:VCALENDAR
VERSION:2.0
PRODID:-//tgpdenver.org//NONSGML kigkonsult.se iCalcreator 2.30.10//
CALSCALE:GREGORIAN
METHOD:PUBLISH
UID:cd363e7c-2c5b-4f84-9330-b1cc196b0227
X-WR-CALDESC:
X-WR-RELCALID:e52faecbdffd495b6c6aa05c5099581a
X-WR-TIMEZONE:America/Denver
BEGIN:VTIMEZONE
TZID:America/Denver
BEGIN:STANDARD
TZNAME:MST
DTSTART:20241103T020000
TZOFFSETFROM:-0600
TZOFFSETTO:-0700
RDATE:20251102T020000
END:STANDARD
BEGIN:DAYLIGHT
TZNAME:MDT
DTSTART:20240310T020000
TZOFFSETFROM:-0700
TZOFFSETTO:-0600
RDATE:20250309T020000
RDATE:20260308T020000
END:DAYLIGHT
END:VTIMEZONE
BEGIN:VEVENT
UID:79a2eec4-7a21-4f19-8d30-d8659c1dd1a7
DTSTAMP:20260424T144430Z
DESCRIPTION:
DTSTART;TZID=America/Denver:20250207T100000
DTEND;TZID=America/Denver:20250207T113000
LOCATION:3rd Floor Art Room
SUMMARY:Black HIV/AIDs Awareness day
END:VEVENT
END:VCALENDAR
