BEGIN:VCALENDAR
VERSION:2.0
PRODID:-//tgpdenver.org//NONSGML kigkonsult.se iCalcreator 2.30.10//
CALSCALE:GREGORIAN
METHOD:PUBLISH
UID:e2690b27-8542-4a24-b2fe-23f34bb0b1f0
X-WR-CALDESC:Miraremos juntes ‘La Mas Draga’\, un programa de competencia q
 ue celebra el arte drag en todo      \n       Latinoamérica. El programa e
 s en español y tiene subtítulos en inglés. \n\n
X-WR-RELCALID:a4ddf15433090a27a8621c6e8b952229
X-WR-TIMEZONE:America/Denver
BEGIN:VTIMEZONE
TZID:America/Denver
BEGIN:STANDARD
TZNAME:MST
DTSTART:20241103T020000
TZOFFSETFROM:-0600
TZOFFSETTO:-0700
RDATE:20251102T020000
END:STANDARD
BEGIN:DAYLIGHT
TZNAME:MDT
DTSTART:20240310T020000
TZOFFSETFROM:-0700
TZOFFSETTO:-0600
RDATE:20250309T020000
RDATE:20260308T020000
END:DAYLIGHT
END:VTIMEZONE
BEGIN:VEVENT
UID:f69598f3-f2f6-4878-9f67-fb61d178fa06
DTSTAMP:20260424T144016Z
DESCRIPTION:Miraremos juntes ‘La Mas Draga’\, un programa de competencia qu
 e celebra el arte drag en todo      \n       Latinoamérica. El programa es
  en español y tiene subtítulos en inglés. \n\n
DTSTART;TZID=America/Denver:20250210T113000
DTEND;TZID=America/Denver:20250210T133000
LOCATION:3rd Floor Art Room
SUMMARY:La Mas Draga
END:VEVENT
END:VCALENDAR
