BEGIN:VCALENDAR
VERSION:2.0
PRODID:-//tgpdenver.org//NONSGML kigkonsult.se iCalcreator 2.30.10//
CALSCALE:GREGORIAN
METHOD:PUBLISH
UID:69abed11-87af-48b0-b576-e57bc13287d4
X-WR-CALDESC:Provided by Servicios de la Raza staff. Services in Spanish an
 d English. Private sexual health tests. Gift cards provided for either tes
 t.
X-WR-RELCALID:f0496c5741fd34490297ba081bfbde68
X-WR-TIMEZONE:America/Denver
BEGIN:VTIMEZONE
TZID:America/Denver
BEGIN:STANDARD
TZNAME:MST
DTSTART:20241103T020000
TZOFFSETFROM:-0600
TZOFFSETTO:-0700
RDATE:20251102T020000
END:STANDARD
BEGIN:DAYLIGHT
TZNAME:MDT
DTSTART:20240310T020000
TZOFFSETFROM:-0700
TZOFFSETTO:-0600
RDATE:20250309T020000
RDATE:20260308T020000
END:DAYLIGHT
END:VTIMEZONE
BEGIN:VEVENT
UID:df9f58b0-9114-41d0-93e2-af7ed0dc3690
DTSTAMP:20260424T144234Z
DESCRIPTION:Provided by Servicios de la Raza staff. Services in Spanish and
  English. Private sexual health tests. Gift cards provided for either test
 .
DTSTART;TZID=America/Denver:20250212T090000
DTEND;TZID=America/Denver:20250212T120000
LOCATION:
SUMMARY:(Bilingual) HIV and Syphilis Testing
END:VEVENT
END:VCALENDAR
