BEGIN:VCALENDAR
VERSION:2.0
PRODID:-//tgpdenver.org//NONSGML kigkonsult.se iCalcreator 2.30.10//
CALSCALE:GREGORIAN
METHOD:PUBLISH
UID:0e51b72e-dd99-41e2-a714-7725ab971e81
X-WR-CALDESC:Space for members who have a terminal or chronic illness to sh
 are conversation and support. Facilitated by TGP staff\, Lucas.
X-WR-RELCALID:4d01fca1c988e89c563eaf7746225595
X-WR-TIMEZONE:America/Denver
BEGIN:VTIMEZONE
TZID:America/Denver
BEGIN:STANDARD
TZNAME:MST
DTSTART:20241103T020000
TZOFFSETFROM:-0600
TZOFFSETTO:-0700
RDATE:20251102T020000
END:STANDARD
BEGIN:DAYLIGHT
TZNAME:MDT
DTSTART:20240310T020000
TZOFFSETFROM:-0700
TZOFFSETTO:-0600
RDATE:20250309T020000
RDATE:20260308T020000
END:DAYLIGHT
END:VTIMEZONE
BEGIN:VEVENT
UID:0a77a016-5a81-44dc-b17f-439edf998137
DTSTAMP:20260424T144145Z
DESCRIPTION:Space for members who have a terminal or chronic illness to sha
 re conversation and support. Facilitated by TGP staff\, Lucas.
DTSTART;TZID=America/Denver:20250212T110000
DTEND;TZID=America/Denver:20250212T120000
LOCATION:
SUMMARY:Terminal Illness Support group
END:VEVENT
END:VCALENDAR
