BEGIN:VCALENDAR
VERSION:2.0
PRODID:-//tgpdenver.org//NONSGML kigkonsult.se iCalcreator 2.30.10//
CALSCALE:GREGORIAN
METHOD:PUBLISH
UID:712ae7d7-43d9-4481-8b38-33a4ddde2f65
X-WR-CALDESC:Member-led group! This class focuses on the skills it takes to
  share your story and creativity. Come learn how to take pride in your art
 .
X-WR-RELCALID:9af4d969ab1bb1b4ef4192842306e1e7
X-WR-TIMEZONE:America/Denver
BEGIN:VTIMEZONE
TZID:America/Denver
BEGIN:STANDARD
TZNAME:MST
DTSTART:20241103T020000
TZOFFSETFROM:-0600
TZOFFSETTO:-0700
RDATE:20251102T020000
END:STANDARD
BEGIN:DAYLIGHT
TZNAME:MDT
DTSTART:20240310T020000
TZOFFSETFROM:-0700
TZOFFSETTO:-0600
RDATE:20250309T020000
RDATE:20260308T020000
END:DAYLIGHT
END:VTIMEZONE
BEGIN:VEVENT
UID:d3a49b4f-52d7-473d-8444-9a17ccec1c45
DTSTAMP:20260424T144133Z
DESCRIPTION:Member-led group! This class focuses on the skills it takes to 
 share your story and creativity. Come learn how to take pride in your art.
DTSTART;TZID=America/Denver:20250212T130000
DTEND;TZID=America/Denver:20250212T150000
LOCATION:3rd Floor Art Room
SUMMARY:Creative Confidence
END:VEVENT
END:VCALENDAR
