BEGIN:VCALENDAR
VERSION:2.0
PRODID:-//tgpdenver.org//NONSGML kigkonsult.se iCalcreator 2.30.10//
CALSCALE:GREGORIAN
METHOD:PUBLISH
UID:ab4f8127-f938-4713-ab0d-d0e39409de59
X-WR-CALDESC:Relax\, and explore space and the Universe on the big screen.
X-WR-RELCALID:1560ac35985067682d7358eaf865ae9d
X-WR-TIMEZONE:America/Denver
BEGIN:VTIMEZONE
TZID:America/Denver
BEGIN:STANDARD
TZNAME:MST
DTSTART:20241103T020000
TZOFFSETFROM:-0600
TZOFFSETTO:-0700
RDATE:20251102T020000
END:STANDARD
BEGIN:DAYLIGHT
TZNAME:MDT
DTSTART:20240310T020000
TZOFFSETFROM:-0700
TZOFFSETTO:-0600
RDATE:20250309T020000
RDATE:20260308T020000
END:DAYLIGHT
END:VTIMEZONE
BEGIN:VEVENT
UID:f1fa3b01-6720-4e5c-982b-9c75739b073d
DTSTAMP:20260424T144608Z
DESCRIPTION:Relax\, and explore space and the Universe on the big screen.
DTSTART;TZID=America/Denver:20250213T090000
DTEND;TZID=America/Denver:20250213T100000
LOCATION:3rd Floor Art Room
SUMMARY:Indoor Stargazing
END:VEVENT
END:VCALENDAR
