BEGIN:VCALENDAR
VERSION:2.0
PRODID:-//tgpdenver.org//NONSGML kigkonsult.se iCalcreator 2.30.10//
CALSCALE:GREGORIAN
METHOD:PUBLISH
UID:bd33554b-0db1-47ee-a8dd-92a20cb872aa
X-WR-CALDESC:Nursing students and clinical supervisor will be onsite to ans
 wer basic health questions and provide services like blood pressure and bl
 ood sugar measurements\, etc.
X-WR-RELCALID:77d850fca9c6ea1d6614d43092ebe58a
X-WR-TIMEZONE:America/Denver
BEGIN:VTIMEZONE
TZID:America/Denver
BEGIN:STANDARD
TZNAME:MST
DTSTART:20241103T020000
TZOFFSETFROM:-0600
TZOFFSETTO:-0700
RDATE:20251102T020000
END:STANDARD
BEGIN:DAYLIGHT
TZNAME:MDT
DTSTART:20240310T020000
TZOFFSETFROM:-0700
TZOFFSETTO:-0600
RDATE:20250309T020000
RDATE:20260308T020000
END:DAYLIGHT
END:VTIMEZONE
BEGIN:VEVENT
UID:341780c5-fbf5-48bb-90af-072e7b9d4b59
DTSTAMP:20260424T144427Z
DESCRIPTION:Nursing students and clinical supervisor will be onsite to answ
 er basic health questions and provide services like blood pressure and blo
 od sugar measurements\, etc.
DTSTART;TZID=America/Denver:20250214T083000
DTEND;TZID=America/Denver:20250214T163000
LOCATION:
SUMMARY:Denver College of Nursing
END:VEVENT
END:VCALENDAR
