BEGIN:VCALENDAR
VERSION:2.0
PRODID:-//tgpdenver.org//NONSGML kigkonsult.se iCalcreator 2.30.10//
CALSCALE:GREGORIAN
METHOD:PUBLISH
UID:f92cb917-0f41-47a6-b131-66c2e8583274
X-WR-CALDESC:
X-WR-RELCALID:91e7ed49fdcc6440f053f6b17d040682
X-WR-TIMEZONE:America/Denver
BEGIN:VTIMEZONE
TZID:America/Denver
BEGIN:STANDARD
TZNAME:MST
DTSTART:20241103T020000
TZOFFSETFROM:-0600
TZOFFSETTO:-0700
RDATE:20251102T020000
END:STANDARD
BEGIN:DAYLIGHT
TZNAME:MDT
DTSTART:20240310T020000
TZOFFSETFROM:-0700
TZOFFSETTO:-0600
RDATE:20250309T020000
RDATE:20260308T020000
END:DAYLIGHT
END:VTIMEZONE
BEGIN:VEVENT
UID:e0ac5abc-bb46-4ac3-9722-84570726fe0c
DTSTAMP:20260424T145051Z
DESCRIPTION:
DTSTART;TZID=America/Denver:20250214T100000
DTEND;TZID=America/Denver:20250214T110000
LOCATION:3rd Floor Art Room
SUMMARY:Sexual Health Bingo
END:VEVENT
END:VCALENDAR
