BEGIN:VCALENDAR
VERSION:2.0
PRODID:-//tgpdenver.org//NONSGML kigkonsult.se iCalcreator 2.30.10//
CALSCALE:GREGORIAN
METHOD:PUBLISH
UID:6e696f05-a179-4629-b224-107a9c681c5a
X-WR-CALDESC:Learn about and sign-up for support with intimate Partner Viol
 ence\, mental health\, and substance use services with Servicios de la Raz
 a.
X-WR-RELCALID:bca80a677312fb6afc440e2a6b78ce59
X-WR-TIMEZONE:America/Denver
BEGIN:VTIMEZONE
TZID:America/Denver
BEGIN:STANDARD
TZNAME:MST
DTSTART:20241103T020000
TZOFFSETFROM:-0600
TZOFFSETTO:-0700
RDATE:20251102T020000
END:STANDARD
BEGIN:DAYLIGHT
TZNAME:MDT
DTSTART:20240310T020000
TZOFFSETFROM:-0700
TZOFFSETTO:-0600
RDATE:20250309T020000
RDATE:20260308T020000
END:DAYLIGHT
END:VTIMEZONE
BEGIN:VEVENT
UID:39c7df1d-e357-431e-98b2-c44b499927e0
DTSTAMP:20260424T145334Z
DESCRIPTION:Learn about and sign-up for support with intimate Partner Viole
 nce\, mental health\, and substance use services with Servicios de la Raza
 .
DTSTART;TZID=America/Denver:20250214T130000
DTEND;TZID=America/Denver:20250214T140000
LOCATION:
SUMMARY:VISTAS outreach and intake
END:VEVENT
END:VCALENDAR
