BEGIN:VCALENDAR
VERSION:2.0
PRODID:-//tgpdenver.org//NONSGML kigkonsult.se iCalcreator 2.30.10//
CALSCALE:GREGORIAN
METHOD:PUBLISH
UID:dd684dfd-fc67-4f4a-b73d-47cf5eaf8c02
X-WR-CALDESC:Indigenous/First Nations affinity space\, community support\, 
 conversation and activities specific to Native cultures and customs. Anyon
 e in the First Nations community is welcome. Facilitated by a TGP member\,
  but leadership will be shared by all members who attend.
X-WR-RELCALID:7578455621581ce1b14000ef28d3d11d
X-WR-TIMEZONE:America/Denver
BEGIN:VTIMEZONE
TZID:America/Denver
BEGIN:STANDARD
TZNAME:MST
DTSTART:20241103T020000
TZOFFSETFROM:-0600
TZOFFSETTO:-0700
RDATE:20251102T020000
END:STANDARD
BEGIN:DAYLIGHT
TZNAME:MDT
DTSTART:20240310T020000
TZOFFSETFROM:-0700
TZOFFSETTO:-0600
RDATE:20250309T020000
RDATE:20260308T020000
END:DAYLIGHT
END:VTIMEZONE
BEGIN:VEVENT
UID:df5beab7-7f1f-4aac-a13e-6ef4ec7037de
DTSTAMP:20260424T144415Z
DESCRIPTION:Indigenous/First Nations affinity space\, community support\, c
 onversation and activities specific to Native cultures and customs. Anyone
  in the First Nations community is welcome. Facilitated by a TGP member\, 
 but leadership will be shared by all members who attend.
DTSTART;TZID=America/Denver:20250221T103000
DTEND;TZID=America/Denver:20250221T120000
LOCATION:
SUMMARY:Native American Talking Circle
END:VEVENT
END:VCALENDAR
