BEGIN:VCALENDAR
VERSION:2.0
PRODID:-//tgpdenver.org//NONSGML kigkonsult.se iCalcreator 2.30.10//
CALSCALE:GREGORIAN
METHOD:PUBLISH
UID:ad973281-73cd-4fec-ac06-99b623770d25
X-WR-CALDESC:
X-WR-RELCALID:8b6d65c872712bdf279fc63162723556
X-WR-TIMEZONE:America/Denver
BEGIN:VTIMEZONE
TZID:America/Denver
BEGIN:STANDARD
TZNAME:MST
DTSTART:20241103T020000
TZOFFSETFROM:-0600
TZOFFSETTO:-0700
RDATE:20251102T020000
END:STANDARD
BEGIN:DAYLIGHT
TZNAME:MDT
DTSTART:20240310T020000
TZOFFSETFROM:-0700
TZOFFSETTO:-0600
RDATE:20250309T020000
RDATE:20260308T020000
END:DAYLIGHT
END:VTIMEZONE
BEGIN:VEVENT
UID:e709bc74-8372-4d25-a181-1ae68d257e26
DTSTAMP:20260424T143900Z
DESCRIPTION:
DTSTART;TZID=America/Denver:20250221T100000
DTEND;TZID=America/Denver:20250221T110000
LOCATION:3rd Floor Art Room
SUMMARY:Cold Weather Workshop
END:VEVENT
END:VCALENDAR
