BEGIN:VCALENDAR
VERSION:2.0
PRODID:-//tgpdenver.org//NONSGML kigkonsult.se iCalcreator 2.30.10//
CALSCALE:GREGORIAN
METHOD:PUBLISH
UID:d8f00729-bcf7-40cc-9bbf-062f229bb297
X-WR-CALDESC:
X-WR-RELCALID:5605709e7478aaf3cc1728856a80da85
X-WR-TIMEZONE:America/Denver
BEGIN:VTIMEZONE
TZID:America/Denver
BEGIN:STANDARD
TZNAME:MST
DTSTART:20241103T020000
TZOFFSETFROM:-0600
TZOFFSETTO:-0700
RDATE:20251102T020000
END:STANDARD
BEGIN:DAYLIGHT
TZNAME:MDT
DTSTART:20240310T020000
TZOFFSETFROM:-0700
TZOFFSETTO:-0600
RDATE:20250309T020000
RDATE:20260308T020000
END:DAYLIGHT
END:VTIMEZONE
BEGIN:VEVENT
UID:61f2e379-6bb7-4296-b5ec-32fdde785066
DTSTAMP:20260424T143945Z
DESCRIPTION:
DTSTART;TZID=America/Denver:20250224T113000
DTEND;TZID=America/Denver:20250224T133000
LOCATION:3rd Floor Art Room
SUMMARY:Afrofuturism Celebration
END:VEVENT
END:VCALENDAR
