BEGIN:VCALENDAR
VERSION:2.0
PRODID:-//tgpdenver.org//NONSGML kigkonsult.se iCalcreator 2.30.10//
CALSCALE:GREGORIAN
METHOD:PUBLISH
UID:2d5c8065-9c23-4ad8-b430-18e37db0bd66
X-WR-CALDESC:Member-led group! This class focuses on the skills it takes to
  share your story and creativity. Come learn how to take pride in your art
 .
X-WR-RELCALID:ea753ad1e9efe71ab0c0977167480b20
X-WR-TIMEZONE:America/Denver
BEGIN:VTIMEZONE
TZID:America/Denver
BEGIN:STANDARD
TZNAME:MST
DTSTART:20241103T020000
TZOFFSETFROM:-0600
TZOFFSETTO:-0700
RDATE:20251102T020000
END:STANDARD
BEGIN:DAYLIGHT
TZNAME:MDT
DTSTART:20240310T020000
TZOFFSETFROM:-0700
TZOFFSETTO:-0600
RDATE:20250309T020000
RDATE:20260308T020000
END:DAYLIGHT
END:VTIMEZONE
BEGIN:VEVENT
UID:b9395089-c5d4-449e-93c2-abfd20d82b76
DTSTAMP:20260424T144142Z
DESCRIPTION:Member-led group! This class focuses on the skills it takes to 
 share your story and creativity. Come learn how to take pride in your art.
DTSTART;TZID=America/Denver:20250226T130000
DTEND;TZID=America/Denver:20250226T150000
LOCATION:3rd Floor Art Room
SUMMARY:Creative Confidence
END:VEVENT
END:VCALENDAR
