BEGIN:VCALENDAR
VERSION:2.0
PRODID:-//tgpdenver.org//NONSGML kigkonsult.se iCalcreator 2.30.10//
CALSCALE:GREGORIAN
METHOD:PUBLISH
UID:86d01817-2d4a-43b4-90f5-16bdde4fee2b
X-WR-CALDESC:
X-WR-RELCALID:72b96ca19b9857a0eb9f8fee4c84ed56
X-WR-TIMEZONE:America/Denver
BEGIN:VTIMEZONE
TZID:America/Denver
BEGIN:STANDARD
TZNAME:MST
DTSTART:20241103T020000
TZOFFSETFROM:-0600
TZOFFSETTO:-0700
RDATE:20251102T020000
END:STANDARD
BEGIN:DAYLIGHT
TZNAME:MDT
DTSTART:20240310T020000
TZOFFSETFROM:-0700
TZOFFSETTO:-0600
RDATE:20250309T020000
RDATE:20260308T020000
END:DAYLIGHT
END:VTIMEZONE
BEGIN:VEVENT
UID:e6d87d3b-1d78-4afb-8550-0df8e68cd18a
DTSTAMP:20260424T144014Z
DESCRIPTION:
DTSTART;TZID=America/Denver:20250228T100000
DTEND;TZID=America/Denver:20250228T110000
LOCATION:3rd Floor Art Room
SUMMARY:Recovery Bingo
END:VEVENT
END:VCALENDAR
