BEGIN:VCALENDAR
VERSION:2.0
PRODID:-//tgpdenver.org//NONSGML kigkonsult.se iCalcreator 2.30.10//
CALSCALE:GREGORIAN
METHOD:PUBLISH
UID:e1e922b3-28fc-4aa6-8fca-91f764695a40
X-WR-CALDESC:Member-led group! This class focuses on the skills it takes to
  share your story and creativity. Come learn how to take pride in your art
 .
X-WR-RELCALID:f19d9c70fd2ca0906f40b33556927ad2
X-WR-TIMEZONE:America/Denver
BEGIN:VTIMEZONE
TZID:America/Denver
BEGIN:STANDARD
TZNAME:MST
DTSTART:20241103T020000
TZOFFSETFROM:-0600
TZOFFSETTO:-0700
RDATE:20251102T020000
END:STANDARD
BEGIN:DAYLIGHT
TZNAME:MDT
DTSTART:20250309T020000
TZOFFSETFROM:-0700
TZOFFSETTO:-0600
RDATE:20260308T020000
END:DAYLIGHT
END:VTIMEZONE
BEGIN:VEVENT
UID:ece7f598-8748-4360-b1db-9a93be9b7486
DTSTAMP:20260424T125822Z
DESCRIPTION:Member-led group! This class focuses on the skills it takes to 
 share your story and creativity. Come learn how to take pride in your art.
DTSTART;TZID=America/Denver:20250312T130000
DTEND;TZID=America/Denver:20250312T143000
LOCATION:3rd Floor Art Room
SUMMARY:Creative Confidence
END:VEVENT
END:VCALENDAR
