BEGIN:VCALENDAR
VERSION:2.0
PRODID:-//tgpdenver.org//NONSGML kigkonsult.se iCalcreator 2.30.10//
CALSCALE:GREGORIAN
METHOD:PUBLISH
UID:31971e98-ff47-4180-86f6-5d33b9cf2bec
X-WR-CALDESC:Relax\, and explore space and the Universe on the big screen.
X-WR-RELCALID:e35e210a51fd7676bd0da475e3cde1e4
X-WR-TIMEZONE:America/Denver
BEGIN:VTIMEZONE
TZID:America/Denver
BEGIN:STANDARD
TZNAME:MST
DTSTART:20241103T020000
TZOFFSETFROM:-0600
TZOFFSETTO:-0700
RDATE:20251102T020000
END:STANDARD
BEGIN:DAYLIGHT
TZNAME:MDT
DTSTART:20250309T020000
TZOFFSETFROM:-0700
TZOFFSETTO:-0600
RDATE:20260308T020000
END:DAYLIGHT
END:VTIMEZONE
BEGIN:VEVENT
UID:0843f3bf-dbe3-42b9-8df0-de9e4a658a38
DTSTAMP:20260424T131814Z
DESCRIPTION:Relax\, and explore space and the Universe on the big screen.
DTSTART;TZID=America/Denver:20250313T090000
DTEND;TZID=America/Denver:20250313T100000
LOCATION:3rd Floor Art Room
SUMMARY:Indoor Stargazing
END:VEVENT
END:VCALENDAR
