BEGIN:VCALENDAR
VERSION:2.0
PRODID:-//tgpdenver.org//NONSGML kigkonsult.se iCalcreator 2.30.10//
CALSCALE:GREGORIAN
METHOD:PUBLISH
UID:07d925be-148a-41dc-bc74-48008d27a634
X-WR-CALDESC:Talk to peer recovery specialists to learn more about programs
  at Servicios de la Raza\, such as Spanish-language substance use support\
 , acudetox\, art therapy\, and sober community events. The specialists can
  also offer acudetox at TGP to help with symptoms of withdrawal and cravin
 gs for substances. \n*Note: Intimate partner violence specialists from Ser
 vicios de la Raza will join to provide additional outreach every 1st Thurs
 day/month.
X-WR-RELCALID:7a9aa0128b472870d3a0efb42dafc7d8
X-WR-TIMEZONE:America/Denver
BEGIN:VTIMEZONE
TZID:America/Denver
BEGIN:STANDARD
TZNAME:MST
DTSTART:20241103T020000
TZOFFSETFROM:-0600
TZOFFSETTO:-0700
RDATE:20251102T020000
END:STANDARD
BEGIN:DAYLIGHT
TZNAME:MDT
DTSTART:20250309T020000
TZOFFSETFROM:-0700
TZOFFSETTO:-0600
RDATE:20260308T020000
END:DAYLIGHT
END:VTIMEZONE
BEGIN:VEVENT
UID:0b0d807d-0924-4b91-8bf0-c55267e923d0
DTSTAMP:20260424T125735Z
DESCRIPTION:Talk to peer recovery specialists to learn more about programs 
 at Servicios de la Raza\, such as Spanish-language substance use support\,
  acudetox\, art therapy\, and sober community events. The specialists can 
 also offer acudetox at TGP to help with symptoms of withdrawal and craving
 s for substances. \n*Note: Intimate partner violence specialists from Serv
 icios de la Raza will join to provide additional outreach every 1st Thursd
 ay/month.
DTSTART;TZID=America/Denver:20250313T140000
DTEND;TZID=America/Denver:20250313T150000
LOCATION:
SUMMARY:Servicios de la Raza Peer Program
END:VEVENT
END:VCALENDAR
