BEGIN:VCALENDAR
VERSION:2.0
PRODID:-//tgpdenver.org//NONSGML kigkonsult.se iCalcreator 2.30.10//
CALSCALE:GREGORIAN
METHOD:PUBLISH
UID:200a1b84-3be3-4f04-b14a-c111e36206c3
X-WR-CALDESC:
X-WR-RELCALID:3ff22980bab658b3c44ee12f6ea96ac0
X-WR-TIMEZONE:America/Denver
BEGIN:VTIMEZONE
TZID:America/Denver
BEGIN:STANDARD
TZNAME:MST
DTSTART:20241103T020000
TZOFFSETFROM:-0600
TZOFFSETTO:-0700
RDATE:20251102T020000
END:STANDARD
BEGIN:DAYLIGHT
TZNAME:MDT
DTSTART:20250309T020000
TZOFFSETFROM:-0700
TZOFFSETTO:-0600
RDATE:20260308T020000
END:DAYLIGHT
END:VTIMEZONE
BEGIN:VEVENT
UID:3daf835b-4d95-4a2b-b3d1-c2bbf59197a6
DTSTAMP:20260424T125444Z
DESCRIPTION:
DTSTART;TZID=America/Denver:20250321T110000
DTEND;TZID=America/Denver:20250321T120000
LOCATION:3rd Floor Art Room
SUMMARY:Mosaics
END:VEVENT
END:VCALENDAR
