BEGIN:VCALENDAR
VERSION:2.0
PRODID:-//tgpdenver.org//NONSGML kigkonsult.se iCalcreator 2.30.10//
CALSCALE:GREGORIAN
METHOD:PUBLISH
UID:0e0e74d7-0159-4467-b07b-e6992f898435
X-WR-CALDESC:
X-WR-RELCALID:307eabefdd592d6ccb7558073238a426
X-WR-TIMEZONE:America/Denver
BEGIN:VTIMEZONE
TZID:America/Denver
BEGIN:STANDARD
TZNAME:MST
DTSTART:20241103T020000
TZOFFSETFROM:-0600
TZOFFSETTO:-0700
RDATE:20251102T020000
END:STANDARD
BEGIN:DAYLIGHT
TZNAME:MDT
DTSTART:20250309T020000
TZOFFSETFROM:-0700
TZOFFSETTO:-0600
RDATE:20260308T020000
END:DAYLIGHT
END:VTIMEZONE
BEGIN:VEVENT
UID:23a48357-ea23-4e55-bcef-42d8f837c050
DTSTAMP:20260424T125632Z
DESCRIPTION:
DTSTART;TZID=America/Denver:20250324T110000
DTEND;TZID=America/Denver:20250324T120000
LOCATION:3rd Floor Art Room
SUMMARY:Recovery Bingo
END:VEVENT
END:VCALENDAR
