BEGIN:VCALENDAR
VERSION:2.0
PRODID:-//tgpdenver.org//NONSGML kigkonsult.se iCalcreator 2.30.10//
CALSCALE:GREGORIAN
METHOD:PUBLISH
UID:df11415d-7aff-46fd-982a-5876d68fb012
X-WR-CALDESC:
X-WR-RELCALID:19c2b87ee585ef087b1b7ccec8e84a09
X-WR-TIMEZONE:America/Denver
BEGIN:VTIMEZONE
TZID:America/Denver
BEGIN:STANDARD
TZNAME:MST
DTSTART:20241103T020000
TZOFFSETFROM:-0600
TZOFFSETTO:-0700
RDATE:20251102T020000
END:STANDARD
BEGIN:DAYLIGHT
TZNAME:MDT
DTSTART:20250309T020000
TZOFFSETFROM:-0700
TZOFFSETTO:-0600
RDATE:20260308T020000
END:DAYLIGHT
END:VTIMEZONE
BEGIN:VEVENT
UID:df3c8045-1af9-416f-b652-45d1d7838d04
DTSTAMP:20260424T145818Z
DESCRIPTION:
DTSTART;TZID=America/Denver:20250328T100000
DTEND;TZID=America/Denver:20250328T110000
LOCATION:3rd Floor Art Room
SUMMARY:Sexual Health Bingo
END:VEVENT
END:VCALENDAR
