BEGIN:VCALENDAR
VERSION:2.0
PRODID:-//tgpdenver.org//NONSGML kigkonsult.se iCalcreator 2.30.10//
CALSCALE:GREGORIAN
METHOD:PUBLISH
UID:dbf8b05d-58d2-4a15-b523-81e3f4af25ba
X-WR-CALDESC:Member-led group! This class focuses on the skills it takes to
  share your story and creativity. Come learn how to take pride in your art
 .
X-WR-RELCALID:471998d581a8ed7f352740af8f902a54
X-WR-TIMEZONE:America/Denver
BEGIN:VTIMEZONE
TZID:America/Denver
BEGIN:STANDARD
TZNAME:MST
DTSTART:20241103T020000
TZOFFSETFROM:-0600
TZOFFSETTO:-0700
RDATE:20251102T020000
END:STANDARD
BEGIN:DAYLIGHT
TZNAME:MDT
DTSTART:20250309T020000
TZOFFSETFROM:-0700
TZOFFSETTO:-0600
RDATE:20260308T020000
END:DAYLIGHT
END:VTIMEZONE
BEGIN:VEVENT
UID:8635f6c9-b508-46ea-bca4-9845f2a65732
DTSTAMP:20260424T111922Z
DESCRIPTION:Member-led group! This class focuses on the skills it takes to 
 share your story and creativity. Come learn how to take pride in your art.
DTSTART;TZID=America/Denver:20250409T130000
DTEND;TZID=America/Denver:20250409T143000
LOCATION:3rd Floor Art Room
SUMMARY:Creative Confidence
END:VEVENT
END:VCALENDAR
