BEGIN:VCALENDAR
VERSION:2.0
PRODID:-//tgpdenver.org//NONSGML kigkonsult.se iCalcreator 2.30.10//
CALSCALE:GREGORIAN
METHOD:PUBLISH
UID:7420a912-bf47-4869-8565-9fba163678aa
X-WR-CALDESC:Bharatanatyam is an Indian classical dance form which uses cre
 ative hand and leg movements. It is a fun \nway to get more cultural expos
 ure and gain a unique experience that you may have never seen before!\n\nI
 nstructor available virtually starting at 2:00
X-WR-RELCALID:3f8e12c839109323775466a30440faa1
X-WR-TIMEZONE:America/Denver
BEGIN:VTIMEZONE
TZID:America/Denver
BEGIN:STANDARD
TZNAME:MST
DTSTART:20241103T020000
TZOFFSETFROM:-0600
TZOFFSETTO:-0700
RDATE:20251102T020000
END:STANDARD
BEGIN:DAYLIGHT
TZNAME:MDT
DTSTART:20250309T020000
TZOFFSETFROM:-0700
TZOFFSETTO:-0600
RDATE:20260308T020000
END:DAYLIGHT
END:VTIMEZONE
BEGIN:VEVENT
UID:a967afc7-43d8-4870-be09-2e213b872bd7
DTSTAMP:20260424T112639Z
DESCRIPTION:Bharatanatyam is an Indian classical dance form which uses crea
 tive hand and leg movements. It is a fun \nway to get more cultural exposu
 re and gain a unique experience that you may have never seen before!\n\nIn
 structor available virtually starting at 2:00
DTSTART;TZID=America/Denver:20250411T130000
DTEND;TZID=America/Denver:20250411T150000
LOCATION:3rd Floor Art Room
SUMMARY:Bharatanatyam Dance Class
END:VEVENT
END:VCALENDAR
