BEGIN:VCALENDAR
VERSION:2.0
PRODID:-//tgpdenver.org//NONSGML kigkonsult.se iCalcreator 2.30.10//
CALSCALE:GREGORIAN
METHOD:PUBLISH
UID:10d86e71-e1a9-4e15-b6c8-95f657f1c088
X-WR-CALDESC:Discuss what healthy and unhealthy relationships with partners
 \, employers\, or anyone\, look like. Gain tools for healthier connections
 . Learn to stay safer while staying in or leaving a relationship\, both ro
 mantic and non-romantic. Led by Voluntad staff\, who specialize in human t
 rafficking support.
X-WR-RELCALID:d9167b5d6d2cb97b7c6af7d1f33c1ebc
X-WR-TIMEZONE:America/Denver
BEGIN:VTIMEZONE
TZID:America/Denver
BEGIN:STANDARD
TZNAME:MST
DTSTART:20241103T020000
TZOFFSETFROM:-0600
TZOFFSETTO:-0700
RDATE:20251102T020000
END:STANDARD
BEGIN:DAYLIGHT
TZNAME:MDT
DTSTART:20250309T020000
TZOFFSETFROM:-0700
TZOFFSETTO:-0600
RDATE:20260308T020000
END:DAYLIGHT
END:VTIMEZONE
BEGIN:VEVENT
UID:88bd62f5-2e02-4181-aa13-ca310ec6a449
DTSTAMP:20260424T111716Z
DESCRIPTION:Discuss what healthy and unhealthy relationships with partners\
 , employers\, or anyone\, look like. Gain tools for healthier connections.
  Learn to stay safer while staying in or leaving a relationship\, both rom
 antic and non-romantic. Led by Voluntad staff\, who specialize in human tr
 afficking support.
DTSTART;TZID=America/Denver:20250416T110000
DTEND;TZID=America/Denver:20250416T120000
LOCATION:
SUMMARY:Relationships and Boundaries Support Group
END:VEVENT
END:VCALENDAR
